BEGIN:VCALENDAR
VERSION:2.0
PRODID:-//HTTV-070 - ECPv6.15.20//NONSGML v1.0//EN
CALSCALE:GREGORIAN
METHOD:PUBLISH
X-WR-CALNAME:HTTV-070
X-ORIGINAL-URL:https://httv-070.nl
X-WR-CALDESC:Evenementen voor HTTV-070
REFRESH-INTERVAL;VALUE=DURATION:PT1H
X-Robots-Tag:noindex
X-PUBLISHED-TTL:PT1H
BEGIN:VTIMEZONE
TZID:Europe/Paris
BEGIN:DAYLIGHT
TZOFFSETFROM:+0100
TZOFFSETTO:+0200
TZNAME:CEST
DTSTART:20140330T010000
END:DAYLIGHT
BEGIN:STANDARD
TZOFFSETFROM:+0200
TZOFFSETTO:+0100
TZNAME:CET
DTSTART:20141026T010000
END:STANDARD
BEGIN:DAYLIGHT
TZOFFSETFROM:+0100
TZOFFSETTO:+0200
TZNAME:CEST
DTSTART:20150329T010000
END:DAYLIGHT
BEGIN:STANDARD
TZOFFSETFROM:+0200
TZOFFSETTO:+0100
TZNAME:CET
DTSTART:20151025T010000
END:STANDARD
BEGIN:DAYLIGHT
TZOFFSETFROM:+0100
TZOFFSETTO:+0200
TZNAME:CEST
DTSTART:20160327T010000
END:DAYLIGHT
BEGIN:STANDARD
TZOFFSETFROM:+0200
TZOFFSETTO:+0100
TZNAME:CET
DTSTART:20161030T010000
END:STANDARD
END:VTIMEZONE
BEGIN:VEVENT
DTSTART;TZID=Europe/Paris:20150117T150000
DTEND;TZID=Europe/Paris:20150117T170000
DTSTAMP:20260420T074449
CREATED:20141228T215158Z
LAST-MODIFIED:20141228T215158Z
UID:24-1421506800-1421514000@httv-070.nl
SUMMARY:Nieuwjaarsreceptie
DESCRIPTION:Beste leden en ouders/ verzorgers van jeugdleden van HTTV-070\, \nNamens het bestuur wens ik jullie vredige Kerstdagen en natuurlijk een zeer sportief 2015.\nHet doet mij genoegen jullie allen uit te nodigen voor de Nieuwjaarsreceptie: \nzaterdag 17 januari tussen 15.00 en 17.00 uur. \nOns aller wethouder\, de heer Baldewsingh zal d.m.v. een symbolische handeling de start van HTTV-070 inluiden. \nWij hopen jullie in grote getale te kunnen begroeten de 17de januari. \nMet vriendelijke groeten\,\nnamens het bestuur van HTTV-070\nBen S.\nsecr.
URL:https://httv-070.nl/event/nieuwjaarsreceptie/
LOCATION:Clubgebouw HTTV-070\, Zuidlarenstraat 8\, Den Haag\, Zuid Holland\, 2282VG\, Nederland
END:VEVENT
BEGIN:VEVENT
DTSTART;VALUE=DATE:20150117
DTEND;VALUE=DATE:20150118
DTSTAMP:20260420T074449
CREATED:20141228T223951Z
LAST-MODIFIED:20141228T223951Z
UID:34-1421452800-1421539199@httv-070.nl
SUMMARY:Meisjes Teamtoernooi
DESCRIPTION:
URL:https://httv-070.nl/event/meisjes-teamtoernooi/
END:VEVENT
BEGIN:VEVENT
DTSTART;TZID=Europe/Paris:20150113T200000
DTEND;TZID=Europe/Paris:20150113T230000
DTSTAMP:20260420T074449
CREATED:20150109T203040Z
LAST-MODIFIED:20150109T203040Z
UID:1790-1421179200-1421190000@httv-070.nl
SUMMARY:Oooievaarsbokaal
DESCRIPTION:
URL:https://httv-070.nl/event/oooievaarsbokaal/
END:VEVENT
BEGIN:VEVENT
DTSTART;VALUE=DATE:20150111
DTEND;VALUE=DATE:20150112
DTSTAMP:20260420T074449
CREATED:20141228T223908Z
LAST-MODIFIED:20141228T223908Z
UID:33-1420934400-1421020799@httv-070.nl
SUMMARY:Zuid Hollandse Kampioenschappen Senioren
DESCRIPTION:
URL:https://httv-070.nl/event/zuid-hollandse-kampioenschappen-senioren/
END:VEVENT
BEGIN:VEVENT
DTSTART;VALUE=DATE:20150110
DTEND;VALUE=DATE:20150111
DTSTAMP:20260420T074449
CREATED:20141228T223810Z
LAST-MODIFIED:20141228T224623Z
UID:32-1420848000-1420934399@httv-070.nl
SUMMARY:Zuid Hollandse Kampioenschappen Jeugd
DESCRIPTION:
URL:https://httv-070.nl/event/zuid-hollandse-kampioenschappen-jeugd/
END:VEVENT
END:VCALENDAR